BEGIN:VCALENDAR
VERSION:2.0
PRODID:-//Starlight Pines - ECPv6.15.20//NONSGML v1.0//EN
CALSCALE:GREGORIAN
METHOD:PUBLISH
X-WR-CALNAME:Starlight Pines
X-ORIGINAL-URL:https://starlightpineshoa.com
X-WR-CALDESC:Events for Starlight Pines
REFRESH-INTERVAL;VALUE=DURATION:PT1H
X-Robots-Tag:noindex
X-PUBLISHED-TTL:PT1H
BEGIN:VTIMEZONE
TZID:UTC
BEGIN:STANDARD
TZOFFSETFROM:+0000
TZOFFSETTO:+0000
TZNAME:UTC
DTSTART:20230101T000000
END:STANDARD
END:VTIMEZONE
BEGIN:VEVENT
DTSTART;TZID=UTC:20240210T090000
DTEND;TZID=UTC:20240210T110000
DTSTAMP:20260423T174347
CREATED:20230607T204553Z
LAST-MODIFIED:20240207T173027Z
UID:1521-1707555600-1707562800@starlightpineshoa.com
SUMMARY:Board of Directors Meeting
DESCRIPTION:Due to weather\, this meeting will be held via Zoom. If you are interested in joining\, please email the HOA at sphoa1216@gmail.com and an invitation will be sent to you. \nThank you\, \nStarlight Pines HOA
URL:https://starlightpineshoa.com/event/board-of-directors-meeting/
LOCATION:Starlight Pines Community Center\, 2740 Arapaho Drive\, Happy Jack\, AZ\, 86024
CATEGORIES:SPHOA Board Meeting
END:VEVENT
END:VCALENDAR