BEGIN:VCALENDAR
VERSION:2.0
PRODID:-//Starlight Pines - ECPv6.15.20//NONSGML v1.0//EN
CALSCALE:GREGORIAN
METHOD:PUBLISH
X-WR-CALNAME:Starlight Pines
X-ORIGINAL-URL:https://starlightpineshoa.com
X-WR-CALDESC:Events for Starlight Pines
REFRESH-INTERVAL;VALUE=DURATION:PT1H
X-Robots-Tag:noindex
X-PUBLISHED-TTL:PT1H
BEGIN:VTIMEZONE
TZID:UTC
BEGIN:STANDARD
TZOFFSETFROM:+0000
TZOFFSETTO:+0000
TZNAME:UTC
DTSTART:20220101T000000
END:STANDARD
END:VTIMEZONE
BEGIN:VEVENT
DTSTART;TZID=UTC:20230401T090000
DTEND;TZID=UTC:20230401T120000
DTSTAMP:20260424T081715
CREATED:20230309T164157Z
LAST-MODIFIED:20230330T150402Z
UID:1415-1680339600-1680350400@starlightpineshoa.com
SUMMARY:Starlight Pines HOA Regular Board of Director's Meeting
DESCRIPTION:View Agenda
URL:https://starlightpineshoa.com/event/starlight-pines-hoa-regular-board-of-directors-meeting-20230311-2/
CATEGORIES:SPHOA Board Meeting
END:VEVENT
END:VCALENDAR